BEGIN:VCALENDAR
VERSION:2.0
PRODID:-//Williams Elementary - ECPv6.14.2//NONSGML v1.0//EN
CALSCALE:GREGORIAN
METHOD:PUBLISH
X-ORIGINAL-URL:https://wes.rsu18.org
X-WR-CALDESC:Events for Williams Elementary
REFRESH-INTERVAL;VALUE=DURATION:PT1H
X-Robots-Tag:noindex
X-PUBLISHED-TTL:PT1H
BEGIN:VTIMEZONE
TZID:America/New_York
BEGIN:DAYLIGHT
TZOFFSETFROM:-0500
TZOFFSETTO:-0400
TZNAME:EDT
DTSTART:20250309T070000
END:DAYLIGHT
BEGIN:STANDARD
TZOFFSETFROM:-0400
TZOFFSETTO:-0500
TZNAME:EST
DTSTART:20251102T060000
END:STANDARD
END:VTIMEZONE
BEGIN:VEVENT
DTSTART;TZID=America/New_York:20250212T080000
DTEND;TZID=America/New_York:20250212T110000
DTSTAMP:20260421T065330
CREATED:20240911T164209Z
LAST-MODIFIED:20250212T155625Z
UID:10000113-1739347200-1739358000@wes.rsu18.org
SUMMARY:Grades 3 & 4 concert rehearsal
DESCRIPTION:Join with Google Meet: https://meet.google.com/frb-hyht-xbp\nOr dial: (US) +1 929-266-3146 PIN: 680234348#\nMore phone numbers: https://tel.meet/frb-hyht-xbp?pin=8590722171027&hs=7\nLearn more about Meet at: https://support.google.com/a/users/answer/9282720
URL:https://wes.rsu18.org/event/grades-3-4-concert-rehearsal/
ORGANIZER;CN="msmith@rsu18.org":MAILTO:msmith@rsu18.org
END:VEVENT
END:VCALENDAR