BEGIN:VCALENDAR
VERSION:2.0
PRODID:-//Williams Elementary - ECPv6.14.2//NONSGML v1.0//EN
CALSCALE:GREGORIAN
METHOD:PUBLISH
X-WR-CALNAME:Williams Elementary
X-ORIGINAL-URL:https://wes.rsu18.org
X-WR-CALDESC:Events for Williams Elementary
REFRESH-INTERVAL;VALUE=DURATION:PT1H
X-Robots-Tag:noindex
X-PUBLISHED-TTL:PT1H
BEGIN:VTIMEZONE
TZID:America/New_York
BEGIN:DAYLIGHT
TZOFFSETFROM:-0500
TZOFFSETTO:-0400
TZNAME:EDT
DTSTART:20270314T070000
END:DAYLIGHT
BEGIN:STANDARD
TZOFFSETFROM:-0400
TZOFFSETTO:-0500
TZNAME:EST
DTSTART:20271107T060000
END:STANDARD
END:VTIMEZONE
BEGIN:VEVENT
DTSTART;TZID=America/New_York:20270802T153000
DTEND;TZID=America/New_York:20270802T163000
DTSTAMP:20260419T111032
CREATED:20250904T154220Z
LAST-MODIFIED:20260419T145723Z
UID:10000259-1817220600-1817224200@wes.rsu18.org
SUMMARY:District Yoga
DESCRIPTION:
URL:https://wes.rsu18.org/event/district-yoga-100/
LOCATION:Williams Elementary School\, 55 Pleasant St\, Oakland\, ME\, United States
GEO:44.549648;-69.716
X-APPLE-STRUCTURED-LOCATION;VALUE=URI;X-ADDRESS=Williams Elementary School 55 Pleasant St Oakland ME United States;X-APPLE-RADIUS=500;X-TITLE=55 Pleasant St:geo:-69.716,44.549648
END:VEVENT
BEGIN:VEVENT
DTSTART;TZID=America/New_York:20270804T093000
DTEND;TZID=America/New_York:20270804T141500
DTSTAMP:20260419T111032
CREATED:20250924T212715Z
LAST-MODIFIED:20251025T002644Z
UID:10000472-1817371800-1817388900@wes.rsu18.org
SUMMARY:Julia H-M at WES
DESCRIPTION:
URL:https://wes.rsu18.org/event/julia-h-m-at-wes-98/
END:VEVENT
BEGIN:VEVENT
DTSTART;TZID=America/New_York:20270804T160000
DTEND;TZID=America/New_York:20270804T170000
DTSTAMP:20260419T111032
CREATED:20250910T194228Z
LAST-MODIFIED:20260419T145723Z
UID:10000366-1817395200-1817398800@wes.rsu18.org
SUMMARY:Zumba
DESCRIPTION:
URL:https://wes.rsu18.org/event/zumba-99/
LOCATION:Williams Elementary School\, 55 Pleasant St\, Oakland\, ME\, United States
GEO:44.549648;-69.716
X-APPLE-STRUCTURED-LOCATION;VALUE=URI;X-ADDRESS=Williams Elementary School 55 Pleasant St Oakland ME United States;X-APPLE-RADIUS=500;X-TITLE=55 Pleasant St:geo:-69.716,44.549648
END:VEVENT
BEGIN:VEVENT
DTSTART;TZID=America/New_York:20270809T153000
DTEND;TZID=America/New_York:20270809T163000
DTSTAMP:20260419T111032
CREATED:20250904T154220Z
LAST-MODIFIED:20260419T145723Z
UID:10000260-1817825400-1817829000@wes.rsu18.org
SUMMARY:District Yoga
DESCRIPTION:
URL:https://wes.rsu18.org/event/district-yoga-101/
LOCATION:Williams Elementary School\, 55 Pleasant St\, Oakland\, ME\, United States
GEO:44.549648;-69.716
X-APPLE-STRUCTURED-LOCATION;VALUE=URI;X-ADDRESS=Williams Elementary School 55 Pleasant St Oakland ME United States;X-APPLE-RADIUS=500;X-TITLE=55 Pleasant St:geo:-69.716,44.549648
END:VEVENT
BEGIN:VEVENT
DTSTART;TZID=America/New_York:20270811T093000
DTEND;TZID=America/New_York:20270811T141500
DTSTAMP:20260419T111032
CREATED:20251001T231349Z
LAST-MODIFIED:20251025T002644Z
UID:10000476-1817976600-1817993700@wes.rsu18.org
SUMMARY:Julia H-M at WES
DESCRIPTION:
URL:https://wes.rsu18.org/event/julia-h-m-at-wes-99/
END:VEVENT
BEGIN:VEVENT
DTSTART;TZID=America/New_York:20270811T160000
DTEND;TZID=America/New_York:20270811T170000
DTSTAMP:20260419T111032
CREATED:20250910T194229Z
LAST-MODIFIED:20260419T145723Z
UID:10000367-1818000000-1818003600@wes.rsu18.org
SUMMARY:Zumba
DESCRIPTION:
URL:https://wes.rsu18.org/event/zumba-100/
LOCATION:Williams Elementary School\, 55 Pleasant St\, Oakland\, ME\, United States
GEO:44.549648;-69.716
X-APPLE-STRUCTURED-LOCATION;VALUE=URI;X-ADDRESS=Williams Elementary School 55 Pleasant St Oakland ME United States;X-APPLE-RADIUS=500;X-TITLE=55 Pleasant St:geo:-69.716,44.549648
END:VEVENT
BEGIN:VEVENT
DTSTART;TZID=America/New_York:20270816T153000
DTEND;TZID=America/New_York:20270816T163000
DTSTAMP:20260419T111032
CREATED:20250904T154220Z
LAST-MODIFIED:20260419T145724Z
UID:10000261-1818430200-1818433800@wes.rsu18.org
SUMMARY:District Yoga
DESCRIPTION:
URL:https://wes.rsu18.org/event/district-yoga-102/
LOCATION:Williams Elementary School\, 55 Pleasant St\, Oakland\, ME\, United States
GEO:44.549648;-69.716
X-APPLE-STRUCTURED-LOCATION;VALUE=URI;X-ADDRESS=Williams Elementary School 55 Pleasant St Oakland ME United States;X-APPLE-RADIUS=500;X-TITLE=55 Pleasant St:geo:-69.716,44.549648
END:VEVENT
BEGIN:VEVENT
DTSTART;TZID=America/New_York:20270818T093000
DTEND;TZID=America/New_York:20270818T141500
DTSTAMP:20260419T111032
CREATED:20251007T161155Z
LAST-MODIFIED:20251025T002645Z
UID:10000477-1818581400-1818598500@wes.rsu18.org
SUMMARY:Julia H-M at WES
DESCRIPTION:
URL:https://wes.rsu18.org/event/julia-h-m-at-wes-100/
END:VEVENT
BEGIN:VEVENT
DTSTART;TZID=America/New_York:20270818T160000
DTEND;TZID=America/New_York:20270818T170000
DTSTAMP:20260419T111032
CREATED:20250910T194229Z
LAST-MODIFIED:20260419T145724Z
UID:10000368-1818604800-1818608400@wes.rsu18.org
SUMMARY:Zumba
DESCRIPTION:
URL:https://wes.rsu18.org/event/zumba-101/
LOCATION:Williams Elementary School\, 55 Pleasant St\, Oakland\, ME\, United States
GEO:44.549648;-69.716
X-APPLE-STRUCTURED-LOCATION;VALUE=URI;X-ADDRESS=Williams Elementary School 55 Pleasant St Oakland ME United States;X-APPLE-RADIUS=500;X-TITLE=55 Pleasant St:geo:-69.716,44.549648
END:VEVENT
BEGIN:VEVENT
DTSTART;TZID=America/New_York:20270823T153000
DTEND;TZID=America/New_York:20270823T163000
DTSTAMP:20260419T111032
CREATED:20250904T154220Z
LAST-MODIFIED:20260419T145724Z
UID:10000262-1819035000-1819038600@wes.rsu18.org
SUMMARY:District Yoga
DESCRIPTION:
URL:https://wes.rsu18.org/event/district-yoga-103/
LOCATION:Williams Elementary School\, 55 Pleasant St\, Oakland\, ME\, United States
GEO:44.549648;-69.716
X-APPLE-STRUCTURED-LOCATION;VALUE=URI;X-ADDRESS=Williams Elementary School 55 Pleasant St Oakland ME United States;X-APPLE-RADIUS=500;X-TITLE=55 Pleasant St:geo:-69.716,44.549648
END:VEVENT
BEGIN:VEVENT
DTSTART;TZID=America/New_York:20270825T093000
DTEND;TZID=America/New_York:20270825T141500
DTSTAMP:20260419T111032
CREATED:20251008T191620Z
LAST-MODIFIED:20251025T002645Z
UID:10000478-1819186200-1819203300@wes.rsu18.org
SUMMARY:Julia H-M at WES
DESCRIPTION:
URL:https://wes.rsu18.org/event/julia-h-m-at-wes-101/
END:VEVENT
BEGIN:VEVENT
DTSTART;TZID=America/New_York:20270825T160000
DTEND;TZID=America/New_York:20270825T170000
DTSTAMP:20260419T111032
CREATED:20250910T194230Z
LAST-MODIFIED:20260419T145724Z
UID:10000369-1819209600-1819213200@wes.rsu18.org
SUMMARY:Zumba
DESCRIPTION:
URL:https://wes.rsu18.org/event/zumba-102/
LOCATION:Williams Elementary School\, 55 Pleasant St\, Oakland\, ME\, United States
GEO:44.549648;-69.716
X-APPLE-STRUCTURED-LOCATION;VALUE=URI;X-ADDRESS=Williams Elementary School 55 Pleasant St Oakland ME United States;X-APPLE-RADIUS=500;X-TITLE=55 Pleasant St:geo:-69.716,44.549648
END:VEVENT
BEGIN:VEVENT
DTSTART;TZID=America/New_York:20270830T153000
DTEND;TZID=America/New_York:20270830T163000
DTSTAMP:20260419T111032
CREATED:20250904T154221Z
LAST-MODIFIED:20260419T145724Z
UID:10000263-1819639800-1819643400@wes.rsu18.org
SUMMARY:District Yoga
DESCRIPTION:
URL:https://wes.rsu18.org/event/district-yoga-104/
LOCATION:Williams Elementary School\, 55 Pleasant St\, Oakland\, ME\, United States
GEO:44.549648;-69.716
X-APPLE-STRUCTURED-LOCATION;VALUE=URI;X-ADDRESS=Williams Elementary School 55 Pleasant St Oakland ME United States;X-APPLE-RADIUS=500;X-TITLE=55 Pleasant St:geo:-69.716,44.549648
END:VEVENT
BEGIN:VEVENT
DTSTART;TZID=America/New_York:20270901T093000
DTEND;TZID=America/New_York:20270901T141500
DTSTAMP:20260419T111032
CREATED:20251013T214215Z
LAST-MODIFIED:20251025T002646Z
UID:10000479-1819791000-1819808100@wes.rsu18.org
SUMMARY:Julia H-M at WES
DESCRIPTION:
URL:https://wes.rsu18.org/event/julia-h-m-at-wes-102/
END:VEVENT
BEGIN:VEVENT
DTSTART;TZID=America/New_York:20270901T160000
DTEND;TZID=America/New_York:20270901T170000
DTSTAMP:20260419T111032
CREATED:20250910T194230Z
LAST-MODIFIED:20260419T145725Z
UID:10000370-1819814400-1819818000@wes.rsu18.org
SUMMARY:Zumba
DESCRIPTION:
URL:https://wes.rsu18.org/event/zumba-103/
LOCATION:Williams Elementary School\, 55 Pleasant St\, Oakland\, ME\, United States
GEO:44.549648;-69.716
X-APPLE-STRUCTURED-LOCATION;VALUE=URI;X-ADDRESS=Williams Elementary School 55 Pleasant St Oakland ME United States;X-APPLE-RADIUS=500;X-TITLE=55 Pleasant St:geo:-69.716,44.549648
END:VEVENT
BEGIN:VEVENT
DTSTART;TZID=America/New_York:20270906T153000
DTEND;TZID=America/New_York:20270906T163000
DTSTAMP:20260419T111032
CREATED:20250906T005851Z
LAST-MODIFIED:20260419T145725Z
UID:10000267-1820244600-1820248200@wes.rsu18.org
SUMMARY:District Yoga
DESCRIPTION:
URL:https://wes.rsu18.org/event/district-yoga-105/
LOCATION:Williams Elementary School\, 55 Pleasant St\, Oakland\, ME\, United States
GEO:44.549648;-69.716
X-APPLE-STRUCTURED-LOCATION;VALUE=URI;X-ADDRESS=Williams Elementary School 55 Pleasant St Oakland ME United States;X-APPLE-RADIUS=500;X-TITLE=55 Pleasant St:geo:-69.716,44.549648
END:VEVENT
BEGIN:VEVENT
DTSTART;TZID=America/New_York:20270908T093000
DTEND;TZID=America/New_York:20270908T141500
DTSTAMP:20260419T111032
CREATED:20251022T211151Z
LAST-MODIFIED:20251025T002646Z
UID:10000484-1820395800-1820412900@wes.rsu18.org
SUMMARY:Julia H-M at WES
DESCRIPTION:
URL:https://wes.rsu18.org/event/julia-h-m-at-wes-103/
END:VEVENT
BEGIN:VEVENT
DTSTART;TZID=America/New_York:20270908T160000
DTEND;TZID=America/New_York:20270908T170000
DTSTAMP:20260419T111032
CREATED:20250910T194231Z
LAST-MODIFIED:20260419T145725Z
UID:10000371-1820419200-1820422800@wes.rsu18.org
SUMMARY:Zumba
DESCRIPTION:
URL:https://wes.rsu18.org/event/zumba-104/
LOCATION:Williams Elementary School\, 55 Pleasant St\, Oakland\, ME\, United States
GEO:44.549648;-69.716
X-APPLE-STRUCTURED-LOCATION;VALUE=URI;X-ADDRESS=Williams Elementary School 55 Pleasant St Oakland ME United States;X-APPLE-RADIUS=500;X-TITLE=55 Pleasant St:geo:-69.716,44.549648
END:VEVENT
BEGIN:VEVENT
DTSTART;TZID=America/New_York:20270913T153000
DTEND;TZID=America/New_York:20270913T163000
DTSTAMP:20260419T111032
CREATED:20251025T012647Z
LAST-MODIFIED:20260419T145725Z
UID:10000485-1820849400-1820853000@wes.rsu18.org
SUMMARY:District Yoga
DESCRIPTION:
URL:https://wes.rsu18.org/event/district-yoga-106/
LOCATION:Williams Elementary School\, 55 Pleasant St\, Oakland\, ME\, United States
GEO:44.549648;-69.716
X-APPLE-STRUCTURED-LOCATION;VALUE=URI;X-ADDRESS=Williams Elementary School 55 Pleasant St Oakland ME United States;X-APPLE-RADIUS=500;X-TITLE=55 Pleasant St:geo:-69.716,44.549648
END:VEVENT
BEGIN:VEVENT
DTSTART;TZID=America/New_York:20270915T160000
DTEND;TZID=America/New_York:20270915T170000
DTSTAMP:20260419T111032
CREATED:20251025T012648Z
LAST-MODIFIED:20260419T145725Z
UID:10000486-1821024000-1821027600@wes.rsu18.org
SUMMARY:Zumba
DESCRIPTION:
URL:https://wes.rsu18.org/event/zumba-105/
LOCATION:Williams Elementary School\, 55 Pleasant St\, Oakland\, ME\, United States
GEO:44.549648;-69.716
X-APPLE-STRUCTURED-LOCATION;VALUE=URI;X-ADDRESS=Williams Elementary School 55 Pleasant St Oakland ME United States;X-APPLE-RADIUS=500;X-TITLE=55 Pleasant St:geo:-69.716,44.549648
END:VEVENT
BEGIN:VEVENT
DTSTART;TZID=America/New_York:20270920T153000
DTEND;TZID=America/New_York:20270920T163000
DTSTAMP:20260419T111032
CREATED:20251025T012648Z
LAST-MODIFIED:20260419T145726Z
UID:10000487-1821454200-1821457800@wes.rsu18.org
SUMMARY:District Yoga
DESCRIPTION:
URL:https://wes.rsu18.org/event/district-yoga-107/
LOCATION:Williams Elementary School\, 55 Pleasant St\, Oakland\, ME\, United States
GEO:44.549648;-69.716
X-APPLE-STRUCTURED-LOCATION;VALUE=URI;X-ADDRESS=Williams Elementary School 55 Pleasant St Oakland ME United States;X-APPLE-RADIUS=500;X-TITLE=55 Pleasant St:geo:-69.716,44.549648
END:VEVENT
BEGIN:VEVENT
DTSTART;TZID=America/New_York:20270922T160000
DTEND;TZID=America/New_York:20270922T170000
DTSTAMP:20260419T111032
CREATED:20251025T012648Z
LAST-MODIFIED:20260419T145726Z
UID:10000488-1821628800-1821632400@wes.rsu18.org
SUMMARY:Zumba
DESCRIPTION:
URL:https://wes.rsu18.org/event/zumba-106/
LOCATION:Williams Elementary School\, 55 Pleasant St\, Oakland\, ME\, United States
GEO:44.549648;-69.716
X-APPLE-STRUCTURED-LOCATION;VALUE=URI;X-ADDRESS=Williams Elementary School 55 Pleasant St Oakland ME United States;X-APPLE-RADIUS=500;X-TITLE=55 Pleasant St:geo:-69.716,44.549648
END:VEVENT
BEGIN:VEVENT
DTSTART;TZID=America/New_York:20270927T153000
DTEND;TZID=America/New_York:20270927T163000
DTSTAMP:20260419T111032
CREATED:20251025T012649Z
LAST-MODIFIED:20260419T145726Z
UID:10000489-1822059000-1822062600@wes.rsu18.org
SUMMARY:District Yoga
DESCRIPTION:
URL:https://wes.rsu18.org/event/district-yoga-108/
LOCATION:Williams Elementary School\, 55 Pleasant St\, Oakland\, ME\, United States
GEO:44.549648;-69.716
X-APPLE-STRUCTURED-LOCATION;VALUE=URI;X-ADDRESS=Williams Elementary School 55 Pleasant St Oakland ME United States;X-APPLE-RADIUS=500;X-TITLE=55 Pleasant St:geo:-69.716,44.549648
END:VEVENT
BEGIN:VEVENT
DTSTART;TZID=America/New_York:20270929T160000
DTEND;TZID=America/New_York:20270929T170000
DTSTAMP:20260419T111032
CREATED:20251025T012649Z
LAST-MODIFIED:20260419T145726Z
UID:10000490-1822233600-1822237200@wes.rsu18.org
SUMMARY:Zumba
DESCRIPTION:
URL:https://wes.rsu18.org/event/zumba-107/
LOCATION:Williams Elementary School\, 55 Pleasant St\, Oakland\, ME\, United States
GEO:44.549648;-69.716
X-APPLE-STRUCTURED-LOCATION;VALUE=URI;X-ADDRESS=Williams Elementary School 55 Pleasant St Oakland ME United States;X-APPLE-RADIUS=500;X-TITLE=55 Pleasant St:geo:-69.716,44.549648
END:VEVENT
BEGIN:VEVENT
DTSTART;TZID=America/New_York:20271004T153000
DTEND;TZID=America/New_York:20271004T163000
DTSTAMP:20260419T111032
CREATED:20251025T012649Z
LAST-MODIFIED:20260419T145726Z
UID:10000491-1822663800-1822667400@wes.rsu18.org
SUMMARY:District Yoga
DESCRIPTION:
URL:https://wes.rsu18.org/event/district-yoga-109/
LOCATION:Williams Elementary School\, 55 Pleasant St\, Oakland\, ME\, United States
GEO:44.549648;-69.716
X-APPLE-STRUCTURED-LOCATION;VALUE=URI;X-ADDRESS=Williams Elementary School 55 Pleasant St Oakland ME United States;X-APPLE-RADIUS=500;X-TITLE=55 Pleasant St:geo:-69.716,44.549648
END:VEVENT
BEGIN:VEVENT
DTSTART;TZID=America/New_York:20271006T160000
DTEND;TZID=America/New_York:20271006T170000
DTSTAMP:20260419T111032
CREATED:20251025T012649Z
LAST-MODIFIED:20260419T145726Z
UID:10000492-1822838400-1822842000@wes.rsu18.org
SUMMARY:Zumba
DESCRIPTION:
URL:https://wes.rsu18.org/event/zumba-108/
LOCATION:Williams Elementary School\, 55 Pleasant St\, Oakland\, ME\, United States
GEO:44.549648;-69.716
X-APPLE-STRUCTURED-LOCATION;VALUE=URI;X-ADDRESS=Williams Elementary School 55 Pleasant St Oakland ME United States;X-APPLE-RADIUS=500;X-TITLE=55 Pleasant St:geo:-69.716,44.549648
END:VEVENT
BEGIN:VEVENT
DTSTART;TZID=America/New_York:20271011T153000
DTEND;TZID=America/New_York:20271011T163000
DTSTAMP:20260419T111032
CREATED:20251025T012650Z
LAST-MODIFIED:20260419T145727Z
UID:10000493-1823268600-1823272200@wes.rsu18.org
SUMMARY:District Yoga
DESCRIPTION:
URL:https://wes.rsu18.org/event/district-yoga-110/
LOCATION:Williams Elementary School\, 55 Pleasant St\, Oakland\, ME\, United States
GEO:44.549648;-69.716
X-APPLE-STRUCTURED-LOCATION;VALUE=URI;X-ADDRESS=Williams Elementary School 55 Pleasant St Oakland ME United States;X-APPLE-RADIUS=500;X-TITLE=55 Pleasant St:geo:-69.716,44.549648
END:VEVENT
BEGIN:VEVENT
DTSTART;TZID=America/New_York:20271013T160000
DTEND;TZID=America/New_York:20271013T170000
DTSTAMP:20260419T111032
CREATED:20251025T012650Z
LAST-MODIFIED:20260419T145727Z
UID:10000494-1823443200-1823446800@wes.rsu18.org
SUMMARY:Zumba
DESCRIPTION:
URL:https://wes.rsu18.org/event/zumba-109/
LOCATION:Williams Elementary School\, 55 Pleasant St\, Oakland\, ME\, United States
GEO:44.549648;-69.716
X-APPLE-STRUCTURED-LOCATION;VALUE=URI;X-ADDRESS=Williams Elementary School 55 Pleasant St Oakland ME United States;X-APPLE-RADIUS=500;X-TITLE=55 Pleasant St:geo:-69.716,44.549648
END:VEVENT
BEGIN:VEVENT
DTSTART;TZID=America/New_York:20271018T153000
DTEND;TZID=America/New_York:20271018T163000
DTSTAMP:20260419T111032
CREATED:20251025T012650Z
LAST-MODIFIED:20260419T145727Z
UID:10000495-1823873400-1823877000@wes.rsu18.org
SUMMARY:District Yoga
DESCRIPTION:
URL:https://wes.rsu18.org/event/district-yoga-111/
LOCATION:Williams Elementary School\, 55 Pleasant St\, Oakland\, ME\, United States
GEO:44.549648;-69.716
X-APPLE-STRUCTURED-LOCATION;VALUE=URI;X-ADDRESS=Williams Elementary School 55 Pleasant St Oakland ME United States;X-APPLE-RADIUS=500;X-TITLE=55 Pleasant St:geo:-69.716,44.549648
END:VEVENT
BEGIN:VEVENT
DTSTART;TZID=America/New_York:20271020T160000
DTEND;TZID=America/New_York:20271020T170000
DTSTAMP:20260419T111032
CREATED:20251025T012651Z
LAST-MODIFIED:20260419T145727Z
UID:10000496-1824048000-1824051600@wes.rsu18.org
SUMMARY:Zumba
DESCRIPTION:
URL:https://wes.rsu18.org/event/zumba-110/
LOCATION:Williams Elementary School\, 55 Pleasant St\, Oakland\, ME\, United States
GEO:44.549648;-69.716
X-APPLE-STRUCTURED-LOCATION;VALUE=URI;X-ADDRESS=Williams Elementary School 55 Pleasant St Oakland ME United States;X-APPLE-RADIUS=500;X-TITLE=55 Pleasant St:geo:-69.716,44.549648
END:VEVENT
END:VCALENDAR