BEGIN:VCALENDAR
VERSION:2.0
PRODID:-//Williams Elementary - ECPv6.14.2//NONSGML v1.0//EN
CALSCALE:GREGORIAN
METHOD:PUBLISH
X-ORIGINAL-URL:https://wes.rsu18.org
X-WR-CALDESC:Events for Williams Elementary
REFRESH-INTERVAL;VALUE=DURATION:PT1H
X-Robots-Tag:noindex
X-PUBLISHED-TTL:PT1H
BEGIN:VTIMEZONE
TZID:America/New_York
BEGIN:DAYLIGHT
TZOFFSETFROM:-0500
TZOFFSETTO:-0400
TZNAME:EDT
DTSTART:20240310T070000
END:DAYLIGHT
BEGIN:STANDARD
TZOFFSETFROM:-0400
TZOFFSETTO:-0500
TZNAME:EST
DTSTART:20241103T060000
END:STANDARD
BEGIN:DAYLIGHT
TZOFFSETFROM:-0500
TZOFFSETTO:-0400
TZNAME:EDT
DTSTART:20250309T070000
END:DAYLIGHT
BEGIN:STANDARD
TZOFFSETFROM:-0400
TZOFFSETTO:-0500
TZNAME:EST
DTSTART:20251102T060000
END:STANDARD
END:VTIMEZONE
BEGIN:VEVENT
DTSTART;TZID=America/New_York:20250403T173000
DTEND;TZID=America/New_York:20250403T190000
DTSTAMP:20260419T130156
CREATED:20250401T134312Z
LAST-MODIFIED:20250403T225732Z
UID:10000126-1743701400-1743706800@wes.rsu18.org
SUMMARY:PTA Bingo night at WES
DESCRIPTION:
URL:https://wes.rsu18.org/event/pta-bingo-night-at-wes/
END:VEVENT
BEGIN:VEVENT
DTSTART;TZID=America/New_York:20250321T080000
DTEND;TZID=America/New_York:20250321T090000
DTSTAMP:20260419T130156
CREATED:20250228T194132Z
LAST-MODIFIED:20250321T121416Z
UID:10000125-1742544000-1742547600@wes.rsu18.org
SUMMARY:Teacher Workshop Day - No School for students
DESCRIPTION:
URL:https://wes.rsu18.org/event/teacher-workshop-day-no-school-for-students/
END:VEVENT
BEGIN:VEVENT
DTSTART;TZID=America/New_York:20250320T150000
DTEND;TZID=America/New_York:20250320T190000
DTSTAMP:20260419T130156
CREATED:20241204T163531Z
LAST-MODIFIED:20250320T215701Z
UID:10000119-1742482800-1742497200@wes.rsu18.org
SUMMARY:Parent/Teacher Conference
DESCRIPTION:
URL:https://wes.rsu18.org/event/parent-teacher-conference/
END:VEVENT
BEGIN:VEVENT
DTSTART;TZID=America/New_York:20250307T180000
DTEND;TZID=America/New_York:20250307T193000
DTSTAMP:20260419T130156
CREATED:20250228T194132Z
LAST-MODIFIED:20250308T002721Z
UID:10000124-1741370400-1741375800@wes.rsu18.org
SUMMARY:PTA Fun Night
DESCRIPTION:Join with Google Meet: https://meet.google.com/uzr-xcta-fmk\nOr dial: (US) +1 931-488-8919 PIN: 118364085#\nMore phone numbers: https://tel.meet/uzr-xcta-fmk?pin=6401207803434&hs=7\nLearn more about Meet at: https://support.google.com/a/users/answer/9282720
URL:https://wes.rsu18.org/event/pta-fun-night/
END:VEVENT
BEGIN:VEVENT
DTSTART;TZID=America/New_York:20250305T120000
DTEND;TZID=America/New_York:20250305T140000
DTSTAMP:20260419T130156
CREATED:20250228T194132Z
LAST-MODIFIED:20250302T031137Z
UID:10000123-1741176000-1741183200@wes.rsu18.org
SUMMARY:Cinderella & Jack and the Beanstalk (Opera House field trip)
DESCRIPTION:
URL:https://wes.rsu18.org/event/cinderella-jack-and-the-beanstalk-opera-house-field-trip/
END:VEVENT
BEGIN:VEVENT
DTSTART;TZID=America/New_York:20250304T120000
DTEND;TZID=America/New_York:20250304T130000
DTSTAMP:20260419T130156
CREATED:20250228T194131Z
LAST-MODIFIED:20250302T031137Z
UID:10000122-1741089600-1741093200@wes.rsu18.org
SUMMARY:Early Release Day - Noon Dismissal
DESCRIPTION:
URL:https://wes.rsu18.org/event/early-release-day-noon-dismissal/
END:VEVENT
BEGIN:VEVENT
DTSTART;VALUE=DATE:20250217
DTEND;VALUE=DATE:20250222
DTSTAMP:20260419T130156
CREATED:20250218T171341Z
LAST-MODIFIED:20250219T082700Z
UID:10000121-1739750400-1740182399@wes.rsu18.org
SUMMARY:No School - Winter Break
DESCRIPTION:
URL:https://wes.rsu18.org/event/no-school-winter-break/
END:VEVENT
BEGIN:VEVENT
DTSTART;TZID=America/New_York:20250212T183000
DTEND;TZID=America/New_York:20250212T193000
DTSTAMP:20260419T130156
CREATED:20240911T164209Z
LAST-MODIFIED:20250212T235601Z
UID:10000114-1739385000-1739388600@wes.rsu18.org
SUMMARY:Gr 3 & 4 Concert at PAC-Snow date will be 2/13/25
DESCRIPTION:
URL:https://wes.rsu18.org/event/gr-3-4-concert-at-pac/
END:VEVENT
BEGIN:VEVENT
DTSTART;TZID=America/New_York:20250212T080000
DTEND;TZID=America/New_York:20250212T110000
DTSTAMP:20260419T130156
CREATED:20240911T164209Z
LAST-MODIFIED:20250212T155625Z
UID:10000113-1739347200-1739358000@wes.rsu18.org
SUMMARY:Grades 3 & 4 concert rehearsal
DESCRIPTION:Join with Google Meet: https://meet.google.com/frb-hyht-xbp\nOr dial: (US) +1 929-266-3146 PIN: 680234348#\nMore phone numbers: https://tel.meet/frb-hyht-xbp?pin=8590722171027&hs=7\nLearn more about Meet at: https://support.google.com/a/users/answer/9282720
URL:https://wes.rsu18.org/event/grades-3-4-concert-rehearsal/
ORGANIZER;CN="msmith@rsu18.org":MAILTO:msmith@rsu18.org
END:VEVENT
BEGIN:VEVENT
DTSTART;TZID=America/New_York:20250205T080000
DTEND;TZID=America/New_York:20250205T110000
DTSTAMP:20260419T130156
CREATED:20240911T164209Z
LAST-MODIFIED:20250205T152603Z
UID:10000112-1738742400-1738753200@wes.rsu18.org
SUMMARY:Gr 3 & 4 Concert Rehearsal
DESCRIPTION:
URL:https://wes.rsu18.org/event/gr-3-4-concert-rehearsal/
END:VEVENT
BEGIN:VEVENT
DTSTART;VALUE=DATE:20241223
DTEND;VALUE=DATE:20250102
DTSTAMP:20260419T130156
CREATED:20241220T182651Z
LAST-MODIFIED:20250101T225857Z
UID:10000120-1734912000-1735775999@wes.rsu18.org
SUMMARY:No School - Christmas Break
DESCRIPTION:
URL:https://wes.rsu18.org/event/no-school-christmas-break/
END:VEVENT
BEGIN:VEVENT
DTSTART;TZID=America/New_York:20241125T094500
DTEND;TZID=America/New_York:20241125T104500
DTSTAMP:20260419T130156
CREATED:20241105T212733Z
LAST-MODIFIED:20241125T151148Z
UID:10000118-1732527900-1732531500@wes.rsu18.org
SUMMARY:Chris Poulos Character/Kindness/Motivation Assembly
DESCRIPTION:
URL:https://wes.rsu18.org/event/chris-poulos-character-kindness-motivation-assembly/
END:VEVENT
BEGIN:VEVENT
DTSTART;TZID=America/New_York:20241113T080000
DTEND;TZID=America/New_York:20241113T143000
DTSTAMP:20260419T130156
CREATED:20240911T164209Z
LAST-MODIFIED:20241113T184259Z
UID:10000111-1731484800-1731508200@wes.rsu18.org
SUMMARY:Dental Clinic
DESCRIPTION:
URL:https://wes.rsu18.org/event/dental-clinic-2/
END:VEVENT
BEGIN:VEVENT
DTSTART;TZID=America/New_York:20241112T080000
DTEND;TZID=America/New_York:20241112T143000
DTSTAMP:20260419T130156
CREATED:20240911T164208Z
LAST-MODIFIED:20241107T025624Z
UID:10000110-1731398400-1731421800@wes.rsu18.org
SUMMARY:Dental Clinic
DESCRIPTION:
URL:https://wes.rsu18.org/event/dental-clinic/
END:VEVENT
BEGIN:VEVENT
DTSTART;TZID=America/New_York:20241105T080000
DTEND;TZID=America/New_York:20241105T100000
DTSTAMP:20260419T130156
CREATED:20240911T164208Z
LAST-MODIFIED:20241105T140711Z
UID:10000109-1730793600-1730800800@wes.rsu18.org
SUMMARY:Picture Re-take Day
DESCRIPTION:
URL:https://wes.rsu18.org/event/picture-re-take-day/
END:VEVENT
BEGIN:VEVENT
DTSTART;TZID=America/New_York:20241021T073000
DTEND;TZID=America/New_York:20241021T140000
DTSTAMP:20260419T130156
CREATED:20241018T201530Z
LAST-MODIFIED:20241021T174048Z
UID:10000117-1729495800-1729519200@wes.rsu18.org
SUMMARY:Author visit - Sarah Thomson
DESCRIPTION:
URL:https://wes.rsu18.org/event/author-visit-sarah-thomson/
END:VEVENT
BEGIN:VEVENT
DTSTART;VALUE=DATE:20241011
DTEND;VALUE=DATE:20241012
DTSTAMP:20260419T130156
CREATED:20240930T012653Z
LAST-MODIFIED:20241011T234214Z
UID:10000116-1728604800-1728691199@wes.rsu18.org
SUMMARY:NO SCHOOL - Comp Day
DESCRIPTION:
URL:https://wes.rsu18.org/event/no-school-comp-day/
END:VEVENT
BEGIN:VEVENT
DTSTART;TZID=America/New_York:20241001T080000
DTEND;TZID=America/New_York:20241001T100000
DTSTAMP:20260419T130156
CREATED:20240911T164208Z
LAST-MODIFIED:20241001T130634Z
UID:10000108-1727769600-1727776800@wes.rsu18.org
SUMMARY:Flu Clinic
DESCRIPTION:
URL:https://wes.rsu18.org/event/flu-clinic/
END:VEVENT
BEGIN:VEVENT
DTSTART;TZID=America/New_York:20240918T080000
DTEND;TZID=America/New_York:20240918T120000
DTSTAMP:20260419T130156
CREATED:20240911T164208Z
LAST-MODIFIED:20240918T155811Z
UID:10000107-1726646400-1726660800@wes.rsu18.org
SUMMARY:Fall Picture Day
DESCRIPTION:
URL:https://wes.rsu18.org/event/fall-picture-day/
END:VEVENT
BEGIN:VEVENT
DTSTART;TZID=America/New_York:20240916T083000
DTEND;TZID=America/New_York:20240916T133000
DTSTAMP:20260419T130156
CREATED:20240911T164208Z
LAST-MODIFIED:20240916T171401Z
UID:10000106-1726475400-1726493400@wes.rsu18.org
SUMMARY:Field Trip to Lemieux's Orchard
DESCRIPTION:
URL:https://wes.rsu18.org/event/field-trip-to-lemieuxs-orchard/
END:VEVENT
END:VCALENDAR