BEGIN:VCALENDAR
VERSION:2.0
PRODID:-//Williams Elementary - ECPv6.14.2//NONSGML v1.0//EN
CALSCALE:GREGORIAN
METHOD:PUBLISH
X-ORIGINAL-URL:https://wes.rsu18.org
X-WR-CALDESC:Events for Williams Elementary
REFRESH-INTERVAL;VALUE=DURATION:PT1H
X-Robots-Tag:noindex
X-PUBLISHED-TTL:PT1H
BEGIN:VTIMEZONE
TZID:America/New_York
BEGIN:DAYLIGHT
TZOFFSETFROM:-0500
TZOFFSETTO:-0400
TZNAME:EDT
DTSTART:20270314T070000
END:DAYLIGHT
BEGIN:STANDARD
TZOFFSETFROM:-0400
TZOFFSETTO:-0500
TZNAME:EST
DTSTART:20271107T060000
END:STANDARD
BEGIN:DAYLIGHT
TZOFFSETFROM:-0500
TZOFFSETTO:-0400
TZNAME:EDT
DTSTART:20280312T070000
END:DAYLIGHT
BEGIN:STANDARD
TZOFFSETFROM:-0400
TZOFFSETTO:-0500
TZNAME:EST
DTSTART:20281105T060000
END:STANDARD
END:VTIMEZONE
BEGIN:VEVENT
DTSTART;TZID=America/New_York:20271013T160000
DTEND;TZID=America/New_York:20271013T170000
DTSTAMP:20260419T184449
CREATED:20251025T012650Z
LAST-MODIFIED:20260419T223059Z
UID:10000494-1823443200-1823446800@wes.rsu18.org
SUMMARY:Zumba
DESCRIPTION:
URL:https://wes.rsu18.org/event/zumba-109/
LOCATION:Williams Elementary School\, 55 Pleasant St\, Oakland\, ME\, United States
GEO:44.549648;-69.716
X-APPLE-STRUCTURED-LOCATION;VALUE=URI;X-ADDRESS=Williams Elementary School 55 Pleasant St Oakland ME United States;X-APPLE-RADIUS=500;X-TITLE=55 Pleasant St:geo:-69.716,44.549648
END:VEVENT
BEGIN:VEVENT
DTSTART;TZID=America/New_York:20271018T153000
DTEND;TZID=America/New_York:20271018T163000
DTSTAMP:20260419T184449
CREATED:20251025T012650Z
LAST-MODIFIED:20260419T223059Z
UID:10000495-1823873400-1823877000@wes.rsu18.org
SUMMARY:District Yoga
DESCRIPTION:
URL:https://wes.rsu18.org/event/district-yoga-111/
LOCATION:Williams Elementary School\, 55 Pleasant St\, Oakland\, ME\, United States
GEO:44.549648;-69.716
X-APPLE-STRUCTURED-LOCATION;VALUE=URI;X-ADDRESS=Williams Elementary School 55 Pleasant St Oakland ME United States;X-APPLE-RADIUS=500;X-TITLE=55 Pleasant St:geo:-69.716,44.549648
END:VEVENT
BEGIN:VEVENT
DTSTART;TZID=America/New_York:20271020T160000
DTEND;TZID=America/New_York:20271020T170000
DTSTAMP:20260419T184449
CREATED:20251025T012651Z
LAST-MODIFIED:20260419T223112Z
UID:10000496-1824048000-1824051600@wes.rsu18.org
SUMMARY:Zumba
DESCRIPTION:
URL:https://wes.rsu18.org/event/zumba-110/
LOCATION:Williams Elementary School\, 55 Pleasant St\, Oakland\, ME\, United States
GEO:44.549648;-69.716
X-APPLE-STRUCTURED-LOCATION;VALUE=URI;X-ADDRESS=Williams Elementary School 55 Pleasant St Oakland ME United States;X-APPLE-RADIUS=500;X-TITLE=55 Pleasant St:geo:-69.716,44.549648
END:VEVENT
BEGIN:VEVENT
DTSTART;TZID=America/New_York:20271025T153000
DTEND;TZID=America/New_York:20271025T163000
DTSTAMP:20260419T184449
CREATED:20251025T012651Z
LAST-MODIFIED:20260419T223112Z
UID:10000497-1824478200-1824481800@wes.rsu18.org
SUMMARY:District Yoga
DESCRIPTION:
URL:https://wes.rsu18.org/event/district-yoga-112/
LOCATION:Williams Elementary School\, 55 Pleasant St\, Oakland\, ME\, United States
GEO:44.549648;-69.716
X-APPLE-STRUCTURED-LOCATION;VALUE=URI;X-ADDRESS=Williams Elementary School 55 Pleasant St Oakland ME United States;X-APPLE-RADIUS=500;X-TITLE=55 Pleasant St:geo:-69.716,44.549648
END:VEVENT
BEGIN:VEVENT
DTSTART;TZID=America/New_York:20271027T160000
DTEND;TZID=America/New_York:20271027T170000
DTSTAMP:20260419T184449
CREATED:20251027T001149Z
LAST-MODIFIED:20260419T223112Z
UID:10000498-1824652800-1824656400@wes.rsu18.org
SUMMARY:Zumba
DESCRIPTION:
URL:https://wes.rsu18.org/event/zumba-111/
LOCATION:Williams Elementary School\, 55 Pleasant St\, Oakland\, ME\, United States
GEO:44.549648;-69.716
X-APPLE-STRUCTURED-LOCATION;VALUE=URI;X-ADDRESS=Williams Elementary School 55 Pleasant St Oakland ME United States;X-APPLE-RADIUS=500;X-TITLE=55 Pleasant St:geo:-69.716,44.549648
END:VEVENT
BEGIN:VEVENT
DTSTART;TZID=America/New_York:20271101T153000
DTEND;TZID=America/New_York:20271101T163000
DTSTAMP:20260419T184449
CREATED:20251101T005650Z
LAST-MODIFIED:20260419T223112Z
UID:10000502-1825083000-1825086600@wes.rsu18.org
SUMMARY:District Yoga
DESCRIPTION:
URL:https://wes.rsu18.org/event/district-yoga-113/
LOCATION:Williams Elementary School\, 55 Pleasant St\, Oakland\, ME\, United States
GEO:44.549648;-69.716
X-APPLE-STRUCTURED-LOCATION;VALUE=URI;X-ADDRESS=Williams Elementary School 55 Pleasant St Oakland ME United States;X-APPLE-RADIUS=500;X-TITLE=55 Pleasant St:geo:-69.716,44.549648
END:VEVENT
BEGIN:VEVENT
DTSTART;TZID=America/New_York:20271103T160000
DTEND;TZID=America/New_York:20271103T170000
DTSTAMP:20260419T184449
CREATED:20251103T005708Z
LAST-MODIFIED:20260419T223113Z
UID:10000503-1825257600-1825261200@wes.rsu18.org
SUMMARY:Zumba
DESCRIPTION:
URL:https://wes.rsu18.org/event/zumba-112/
LOCATION:Williams Elementary School\, 55 Pleasant St\, Oakland\, ME\, United States
GEO:44.549648;-69.716
X-APPLE-STRUCTURED-LOCATION;VALUE=URI;X-ADDRESS=Williams Elementary School 55 Pleasant St Oakland ME United States;X-APPLE-RADIUS=500;X-TITLE=55 Pleasant St:geo:-69.716,44.549648
END:VEVENT
BEGIN:VEVENT
DTSTART;TZID=America/New_York:20271108T153000
DTEND;TZID=America/New_York:20271108T163000
DTSTAMP:20260419T184449
CREATED:20251108T004153Z
LAST-MODIFIED:20260419T223113Z
UID:10000504-1825687800-1825691400@wes.rsu18.org
SUMMARY:District Yoga
DESCRIPTION:
URL:https://wes.rsu18.org/event/district-yoga-114/
LOCATION:Williams Elementary School\, 55 Pleasant St\, Oakland\, ME\, United States
GEO:44.549648;-69.716
X-APPLE-STRUCTURED-LOCATION;VALUE=URI;X-ADDRESS=Williams Elementary School 55 Pleasant St Oakland ME United States;X-APPLE-RADIUS=500;X-TITLE=55 Pleasant St:geo:-69.716,44.549648
END:VEVENT
BEGIN:VEVENT
DTSTART;TZID=America/New_York:20271110T160000
DTEND;TZID=America/New_York:20271110T170000
DTSTAMP:20260419T184449
CREATED:20251110T001152Z
LAST-MODIFIED:20260419T223113Z
UID:10000505-1825862400-1825866000@wes.rsu18.org
SUMMARY:Zumba
DESCRIPTION:
URL:https://wes.rsu18.org/event/zumba-113/
LOCATION:Williams Elementary School\, 55 Pleasant St\, Oakland\, ME\, United States
GEO:44.549648;-69.716
X-APPLE-STRUCTURED-LOCATION;VALUE=URI;X-ADDRESS=Williams Elementary School 55 Pleasant St Oakland ME United States;X-APPLE-RADIUS=500;X-TITLE=55 Pleasant St:geo:-69.716,44.549648
END:VEVENT
BEGIN:VEVENT
DTSTART;TZID=America/New_York:20271115T153000
DTEND;TZID=America/New_York:20271115T163000
DTSTAMP:20260419T184449
CREATED:20251115T001149Z
LAST-MODIFIED:20260419T223113Z
UID:10000506-1826292600-1826296200@wes.rsu18.org
SUMMARY:District Yoga
DESCRIPTION:
URL:https://wes.rsu18.org/event/district-yoga-115/
LOCATION:Williams Elementary School\, 55 Pleasant St\, Oakland\, ME\, United States
GEO:44.549648;-69.716
X-APPLE-STRUCTURED-LOCATION;VALUE=URI;X-ADDRESS=Williams Elementary School 55 Pleasant St Oakland ME United States;X-APPLE-RADIUS=500;X-TITLE=55 Pleasant St:geo:-69.716,44.549648
END:VEVENT
BEGIN:VEVENT
DTSTART;TZID=America/New_York:20271117T160000
DTEND;TZID=America/New_York:20271117T170000
DTSTAMP:20260419T184449
CREATED:20251117T001316Z
LAST-MODIFIED:20260419T223113Z
UID:10000507-1826467200-1826470800@wes.rsu18.org
SUMMARY:Zumba
DESCRIPTION:
URL:https://wes.rsu18.org/event/zumba-114/
LOCATION:Williams Elementary School\, 55 Pleasant St\, Oakland\, ME\, United States
GEO:44.549648;-69.716
X-APPLE-STRUCTURED-LOCATION;VALUE=URI;X-ADDRESS=Williams Elementary School 55 Pleasant St Oakland ME United States;X-APPLE-RADIUS=500;X-TITLE=55 Pleasant St:geo:-69.716,44.549648
END:VEVENT
BEGIN:VEVENT
DTSTART;TZID=America/New_York:20271122T153000
DTEND;TZID=America/New_York:20271122T163000
DTSTAMP:20260419T184449
CREATED:20251122T005724Z
LAST-MODIFIED:20260419T223113Z
UID:10000508-1826897400-1826901000@wes.rsu18.org
SUMMARY:District Yoga
DESCRIPTION:
URL:https://wes.rsu18.org/event/district-yoga-116/
LOCATION:Williams Elementary School\, 55 Pleasant St\, Oakland\, ME\, United States
GEO:44.549648;-69.716
X-APPLE-STRUCTURED-LOCATION;VALUE=URI;X-ADDRESS=Williams Elementary School 55 Pleasant St Oakland ME United States;X-APPLE-RADIUS=500;X-TITLE=55 Pleasant St:geo:-69.716,44.549648
END:VEVENT
BEGIN:VEVENT
DTSTART;TZID=America/New_York:20271124T160000
DTEND;TZID=America/New_York:20271124T170000
DTSTAMP:20260419T184449
CREATED:20251124T004158Z
LAST-MODIFIED:20260419T223125Z
UID:10000509-1827072000-1827075600@wes.rsu18.org
SUMMARY:Zumba
DESCRIPTION:
URL:https://wes.rsu18.org/event/zumba-115/
LOCATION:Williams Elementary School\, 55 Pleasant St\, Oakland\, ME\, United States
GEO:44.549648;-69.716
X-APPLE-STRUCTURED-LOCATION;VALUE=URI;X-ADDRESS=Williams Elementary School 55 Pleasant St Oakland ME United States;X-APPLE-RADIUS=500;X-TITLE=55 Pleasant St:geo:-69.716,44.549648
END:VEVENT
BEGIN:VEVENT
DTSTART;TZID=America/New_York:20271129T153000
DTEND;TZID=America/New_York:20271129T163000
DTSTAMP:20260419T184449
CREATED:20251129T001326Z
LAST-MODIFIED:20260419T223125Z
UID:10000510-1827502200-1827505800@wes.rsu18.org
SUMMARY:District Yoga
DESCRIPTION:
URL:https://wes.rsu18.org/event/district-yoga-117/
LOCATION:Williams Elementary School\, 55 Pleasant St\, Oakland\, ME\, United States
GEO:44.549648;-69.716
X-APPLE-STRUCTURED-LOCATION;VALUE=URI;X-ADDRESS=Williams Elementary School 55 Pleasant St Oakland ME United States;X-APPLE-RADIUS=500;X-TITLE=55 Pleasant St:geo:-69.716,44.549648
END:VEVENT
BEGIN:VEVENT
DTSTART;TZID=America/New_York:20271201T160000
DTEND;TZID=America/New_York:20271201T170000
DTSTAMP:20260419T184449
CREATED:20251201T004216Z
LAST-MODIFIED:20260419T223125Z
UID:10000511-1827676800-1827680400@wes.rsu18.org
SUMMARY:Zumba
DESCRIPTION:
URL:https://wes.rsu18.org/event/zumba-116/
LOCATION:Williams Elementary School\, 55 Pleasant St\, Oakland\, ME\, United States
GEO:44.549648;-69.716
X-APPLE-STRUCTURED-LOCATION;VALUE=URI;X-ADDRESS=Williams Elementary School 55 Pleasant St Oakland ME United States;X-APPLE-RADIUS=500;X-TITLE=55 Pleasant St:geo:-69.716,44.549648
END:VEVENT
BEGIN:VEVENT
DTSTART;TZID=America/New_York:20271206T153000
DTEND;TZID=America/New_York:20271206T163000
DTSTAMP:20260419T184449
CREATED:20251206T004253Z
LAST-MODIFIED:20260419T223125Z
UID:10000512-1828107000-1828110600@wes.rsu18.org
SUMMARY:District Yoga
DESCRIPTION:
URL:https://wes.rsu18.org/event/district-yoga-118/
LOCATION:Williams Elementary School\, 55 Pleasant St\, Oakland\, ME\, United States
GEO:44.549648;-69.716
X-APPLE-STRUCTURED-LOCATION;VALUE=URI;X-ADDRESS=Williams Elementary School 55 Pleasant St Oakland ME United States;X-APPLE-RADIUS=500;X-TITLE=55 Pleasant St:geo:-69.716,44.549648
END:VEVENT
BEGIN:VEVENT
DTSTART;TZID=America/New_York:20271208T160000
DTEND;TZID=America/New_York:20271208T170000
DTSTAMP:20260419T184449
CREATED:20251208T005655Z
LAST-MODIFIED:20260419T223126Z
UID:10000513-1828281600-1828285200@wes.rsu18.org
SUMMARY:Zumba
DESCRIPTION:
URL:https://wes.rsu18.org/event/zumba-117/
LOCATION:Williams Elementary School\, 55 Pleasant St\, Oakland\, ME\, United States
GEO:44.549648;-69.716
X-APPLE-STRUCTURED-LOCATION;VALUE=URI;X-ADDRESS=Williams Elementary School 55 Pleasant St Oakland ME United States;X-APPLE-RADIUS=500;X-TITLE=55 Pleasant St:geo:-69.716,44.549648
END:VEVENT
BEGIN:VEVENT
DTSTART;TZID=America/New_York:20271213T153000
DTEND;TZID=America/New_York:20271213T163000
DTSTAMP:20260419T184449
CREATED:20251213T004140Z
LAST-MODIFIED:20260419T223126Z
UID:10000514-1828711800-1828715400@wes.rsu18.org
SUMMARY:District Yoga
DESCRIPTION:
URL:https://wes.rsu18.org/event/district-yoga-119/
LOCATION:Williams Elementary School\, 55 Pleasant St\, Oakland\, ME\, United States
GEO:44.549648;-69.716
X-APPLE-STRUCTURED-LOCATION;VALUE=URI;X-ADDRESS=Williams Elementary School 55 Pleasant St Oakland ME United States;X-APPLE-RADIUS=500;X-TITLE=55 Pleasant St:geo:-69.716,44.549648
END:VEVENT
BEGIN:VEVENT
DTSTART;TZID=America/New_York:20271215T160000
DTEND;TZID=America/New_York:20271215T170000
DTSTAMP:20260419T184449
CREATED:20251215T001147Z
LAST-MODIFIED:20260419T223126Z
UID:10000515-1828886400-1828890000@wes.rsu18.org
SUMMARY:Zumba
DESCRIPTION:
URL:https://wes.rsu18.org/event/zumba-118/
LOCATION:Williams Elementary School\, 55 Pleasant St\, Oakland\, ME\, United States
GEO:44.549648;-69.716
X-APPLE-STRUCTURED-LOCATION;VALUE=URI;X-ADDRESS=Williams Elementary School 55 Pleasant St Oakland ME United States;X-APPLE-RADIUS=500;X-TITLE=55 Pleasant St:geo:-69.716,44.549648
END:VEVENT
BEGIN:VEVENT
DTSTART;TZID=America/New_York:20271220T153000
DTEND;TZID=America/New_York:20271220T163000
DTSTAMP:20260419T184449
CREATED:20251220T002654Z
LAST-MODIFIED:20260419T223126Z
UID:10000517-1829316600-1829320200@wes.rsu18.org
SUMMARY:District Yoga
DESCRIPTION:
URL:https://wes.rsu18.org/event/district-yoga-120/
LOCATION:Williams Elementary School\, 55 Pleasant St\, Oakland\, ME\, United States
GEO:44.549648;-69.716
X-APPLE-STRUCTURED-LOCATION;VALUE=URI;X-ADDRESS=Williams Elementary School 55 Pleasant St Oakland ME United States;X-APPLE-RADIUS=500;X-TITLE=55 Pleasant St:geo:-69.716,44.549648
END:VEVENT
BEGIN:VEVENT
DTSTART;TZID=America/New_York:20271222T160000
DTEND;TZID=America/New_York:20271222T170000
DTSTAMP:20260419T184449
CREATED:20251222T001217Z
LAST-MODIFIED:20260419T223126Z
UID:10000518-1829491200-1829494800@wes.rsu18.org
SUMMARY:Zumba
DESCRIPTION:
URL:https://wes.rsu18.org/event/zumba-119/
LOCATION:Williams Elementary School\, 55 Pleasant St\, Oakland\, ME\, United States
GEO:44.549648;-69.716
X-APPLE-STRUCTURED-LOCATION;VALUE=URI;X-ADDRESS=Williams Elementary School 55 Pleasant St Oakland ME United States;X-APPLE-RADIUS=500;X-TITLE=55 Pleasant St:geo:-69.716,44.549648
END:VEVENT
BEGIN:VEVENT
DTSTART;TZID=America/New_York:20271227T153000
DTEND;TZID=America/New_York:20271227T163000
DTSTAMP:20260419T184449
CREATED:20251227T001157Z
LAST-MODIFIED:20260419T223126Z
UID:10000519-1829921400-1829925000@wes.rsu18.org
SUMMARY:District Yoga
DESCRIPTION:
URL:https://wes.rsu18.org/event/district-yoga-121/
LOCATION:Williams Elementary School\, 55 Pleasant St\, Oakland\, ME\, United States
GEO:44.549648;-69.716
X-APPLE-STRUCTURED-LOCATION;VALUE=URI;X-ADDRESS=Williams Elementary School 55 Pleasant St Oakland ME United States;X-APPLE-RADIUS=500;X-TITLE=55 Pleasant St:geo:-69.716,44.549648
END:VEVENT
BEGIN:VEVENT
DTSTART;TZID=America/New_York:20271229T160000
DTEND;TZID=America/New_York:20271229T170000
DTSTAMP:20260419T184450
CREATED:20251229T005642Z
LAST-MODIFIED:20260419T223139Z
UID:10000520-1830096000-1830099600@wes.rsu18.org
SUMMARY:Zumba
DESCRIPTION:
URL:https://wes.rsu18.org/event/zumba-120/
LOCATION:Williams Elementary School\, 55 Pleasant St\, Oakland\, ME\, United States
GEO:44.549648;-69.716
X-APPLE-STRUCTURED-LOCATION;VALUE=URI;X-ADDRESS=Williams Elementary School 55 Pleasant St Oakland ME United States;X-APPLE-RADIUS=500;X-TITLE=55 Pleasant St:geo:-69.716,44.549648
END:VEVENT
BEGIN:VEVENT
DTSTART;TZID=America/New_York:20280103T153000
DTEND;TZID=America/New_York:20280103T163000
DTSTAMP:20260419T184450
CREATED:20260103T005645Z
LAST-MODIFIED:20260419T223140Z
UID:10000521-1830526200-1830529800@wes.rsu18.org
SUMMARY:District Yoga
DESCRIPTION:
URL:https://wes.rsu18.org/event/district-yoga-122/
LOCATION:Williams Elementary School\, 55 Pleasant St\, Oakland\, ME\, United States
GEO:44.549648;-69.716
X-APPLE-STRUCTURED-LOCATION;VALUE=URI;X-ADDRESS=Williams Elementary School 55 Pleasant St Oakland ME United States;X-APPLE-RADIUS=500;X-TITLE=55 Pleasant St:geo:-69.716,44.549648
END:VEVENT
BEGIN:VEVENT
DTSTART;TZID=America/New_York:20280105T160000
DTEND;TZID=America/New_York:20280105T170000
DTSTAMP:20260419T184450
CREATED:20260105T001207Z
LAST-MODIFIED:20260419T223140Z
UID:10000522-1830700800-1830704400@wes.rsu18.org
SUMMARY:Zumba
DESCRIPTION:
URL:https://wes.rsu18.org/event/zumba-121/
LOCATION:Williams Elementary School\, 55 Pleasant St\, Oakland\, ME\, United States
GEO:44.549648;-69.716
X-APPLE-STRUCTURED-LOCATION;VALUE=URI;X-ADDRESS=Williams Elementary School 55 Pleasant St Oakland ME United States;X-APPLE-RADIUS=500;X-TITLE=55 Pleasant St:geo:-69.716,44.549648
END:VEVENT
BEGIN:VEVENT
DTSTART;TZID=America/New_York:20280110T153000
DTEND;TZID=America/New_York:20280110T163000
DTSTAMP:20260419T184450
CREATED:20260110T004143Z
LAST-MODIFIED:20260419T223140Z
UID:10000523-1831131000-1831134600@wes.rsu18.org
SUMMARY:District Yoga
DESCRIPTION:
URL:https://wes.rsu18.org/event/district-yoga-123/
LOCATION:Williams Elementary School\, 55 Pleasant St\, Oakland\, ME\, United States
GEO:44.549648;-69.716
X-APPLE-STRUCTURED-LOCATION;VALUE=URI;X-ADDRESS=Williams Elementary School 55 Pleasant St Oakland ME United States;X-APPLE-RADIUS=500;X-TITLE=55 Pleasant St:geo:-69.716,44.549648
END:VEVENT
BEGIN:VEVENT
DTSTART;TZID=America/New_York:20280112T160000
DTEND;TZID=America/New_York:20280112T170000
DTSTAMP:20260419T184450
CREATED:20260112T005640Z
LAST-MODIFIED:20260419T223140Z
UID:10000524-1831305600-1831309200@wes.rsu18.org
SUMMARY:Zumba
DESCRIPTION:
URL:https://wes.rsu18.org/event/zumba-122/
LOCATION:Williams Elementary School\, 55 Pleasant St\, Oakland\, ME\, United States
GEO:44.549648;-69.716
X-APPLE-STRUCTURED-LOCATION;VALUE=URI;X-ADDRESS=Williams Elementary School 55 Pleasant St Oakland ME United States;X-APPLE-RADIUS=500;X-TITLE=55 Pleasant St:geo:-69.716,44.549648
END:VEVENT
BEGIN:VEVENT
DTSTART;TZID=America/New_York:20280117T153000
DTEND;TZID=America/New_York:20280117T163000
DTSTAMP:20260419T184450
CREATED:20260117T005710Z
LAST-MODIFIED:20260419T223140Z
UID:10000525-1831735800-1831739400@wes.rsu18.org
SUMMARY:District Yoga
DESCRIPTION:
URL:https://wes.rsu18.org/event/district-yoga-124/
LOCATION:Williams Elementary School\, 55 Pleasant St\, Oakland\, ME\, United States
GEO:44.549648;-69.716
X-APPLE-STRUCTURED-LOCATION;VALUE=URI;X-ADDRESS=Williams Elementary School 55 Pleasant St Oakland ME United States;X-APPLE-RADIUS=500;X-TITLE=55 Pleasant St:geo:-69.716,44.549648
END:VEVENT
BEGIN:VEVENT
DTSTART;TZID=America/New_York:20280119T160000
DTEND;TZID=America/New_York:20280119T170000
DTSTAMP:20260419T184450
CREATED:20260119T005643Z
LAST-MODIFIED:20260419T223140Z
UID:10000526-1831910400-1831914000@wes.rsu18.org
SUMMARY:Zumba
DESCRIPTION:
URL:https://wes.rsu18.org/event/zumba-123/
LOCATION:Williams Elementary School\, 55 Pleasant St\, Oakland\, ME\, United States
GEO:44.549648;-69.716
X-APPLE-STRUCTURED-LOCATION;VALUE=URI;X-ADDRESS=Williams Elementary School 55 Pleasant St Oakland ME United States;X-APPLE-RADIUS=500;X-TITLE=55 Pleasant St:geo:-69.716,44.549648
END:VEVENT
BEGIN:VEVENT
DTSTART;TZID=America/New_York:20280124T153000
DTEND;TZID=America/New_York:20280124T163000
DTSTAMP:20260419T184450
CREATED:20260124T001214Z
LAST-MODIFIED:20260419T223140Z
UID:10000527-1832340600-1832344200@wes.rsu18.org
SUMMARY:District Yoga
DESCRIPTION:
URL:https://wes.rsu18.org/event/district-yoga-125/
LOCATION:Williams Elementary School\, 55 Pleasant St\, Oakland\, ME\, United States
GEO:44.549648;-69.716
X-APPLE-STRUCTURED-LOCATION;VALUE=URI;X-ADDRESS=Williams Elementary School 55 Pleasant St Oakland ME United States;X-APPLE-RADIUS=500;X-TITLE=55 Pleasant St:geo:-69.716,44.549648
END:VEVENT
END:VCALENDAR