BEGIN:VCALENDAR
VERSION:2.0
PRODID:-//Williams Elementary - ECPv6.14.2//NONSGML v1.0//EN
CALSCALE:GREGORIAN
METHOD:PUBLISH
X-ORIGINAL-URL:https://wes.rsu18.org
X-WR-CALDESC:Events for Williams Elementary
REFRESH-INTERVAL;VALUE=DURATION:PT1H
X-Robots-Tag:noindex
X-PUBLISHED-TTL:PT1H
BEGIN:VTIMEZONE
TZID:America/New_York
BEGIN:DAYLIGHT
TZOFFSETFROM:-0500
TZOFFSETTO:-0400
TZNAME:EDT
DTSTART:20280312T070000
END:DAYLIGHT
BEGIN:STANDARD
TZOFFSETFROM:-0400
TZOFFSETTO:-0500
TZNAME:EST
DTSTART:20281105T060000
END:STANDARD
END:VTIMEZONE
BEGIN:VEVENT
DTSTART;TZID=America/New_York:20280410T153000
DTEND;TZID=America/New_York:20280410T163000
DTSTAMP:20260420T014553
CREATED:20260414T114152Z
LAST-MODIFIED:20260420T054135Z
UID:10000571-1838993400-1838997000@wes.rsu18.org
SUMMARY:District Yoga
DESCRIPTION:
URL:https://wes.rsu18.org/event/district-yoga-136/
LOCATION:Williams Elementary School\, 55 Pleasant St\, Oakland\, ME\, United States
GEO:44.549648;-69.716
X-APPLE-STRUCTURED-LOCATION;VALUE=URI;X-ADDRESS=Williams Elementary School 55 Pleasant St Oakland ME United States;X-APPLE-RADIUS=500;X-TITLE=55 Pleasant St:geo:-69.716,44.549648
END:VEVENT
BEGIN:VEVENT
DTSTART;TZID=America/New_York:20280412T160000
DTEND;TZID=America/New_York:20280412T170000
DTSTAMP:20260420T014553
CREATED:20260414T114153Z
LAST-MODIFIED:20260420T054136Z
UID:10000572-1839168000-1839171600@wes.rsu18.org
SUMMARY:Zumba
DESCRIPTION:
URL:https://wes.rsu18.org/event/zumba-135/
LOCATION:Williams Elementary School\, 55 Pleasant St\, Oakland\, ME\, United States
GEO:44.549648;-69.716
X-APPLE-STRUCTURED-LOCATION;VALUE=URI;X-ADDRESS=Williams Elementary School 55 Pleasant St Oakland ME United States;X-APPLE-RADIUS=500;X-TITLE=55 Pleasant St:geo:-69.716,44.549648
END:VEVENT
BEGIN:VEVENT
DTSTART;TZID=America/New_York:20280417T153000
DTEND;TZID=America/New_York:20280417T163000
DTSTAMP:20260420T014553
CREATED:20260417T001151Z
LAST-MODIFIED:20260420T054136Z
UID:10000573-1839598200-1839601800@wes.rsu18.org
SUMMARY:District Yoga
DESCRIPTION:
URL:https://wes.rsu18.org/event/district-yoga-137/
LOCATION:Williams Elementary School\, 55 Pleasant St\, Oakland\, ME\, United States
GEO:44.549648;-69.716
X-APPLE-STRUCTURED-LOCATION;VALUE=URI;X-ADDRESS=Williams Elementary School 55 Pleasant St Oakland ME United States;X-APPLE-RADIUS=500;X-TITLE=55 Pleasant St:geo:-69.716,44.549648
END:VEVENT
BEGIN:VEVENT
DTSTART;TZID=America/New_York:20280419T160000
DTEND;TZID=America/New_York:20280419T170000
DTSTAMP:20260420T014553
CREATED:20260419T001139Z
LAST-MODIFIED:20260420T054136Z
UID:10000574-1839772800-1839776400@wes.rsu18.org
SUMMARY:Zumba
DESCRIPTION:
URL:https://wes.rsu18.org/event/zumba-136/
LOCATION:Williams Elementary School\, 55 Pleasant St\, Oakland\, ME\, United States
GEO:44.549648;-69.716
X-APPLE-STRUCTURED-LOCATION;VALUE=URI;X-ADDRESS=Williams Elementary School 55 Pleasant St Oakland ME United States;X-APPLE-RADIUS=500;X-TITLE=55 Pleasant St:geo:-69.716,44.549648
END:VEVENT
END:VCALENDAR